Workbook

Sheet Návrh rozpočtu 2014
A1: ROZPOČET NA ROK 2014 A ROZPOČTOVÝ VÝHLED DO ROKU 2016
A3: OBDOBÍ | C3: S-2009 | D3: S-2010 | E3: S-2011 | F3: S-2012 | G3: SR-2013 | H3: OS-2013 | I3: NR-2014 | J3: RV-2015 | K3: RV-2016
A4: pol. | B4: Třída 1. - Daňové příjmy | C4: =SUM(C5:C20) -> 41367 | D4: =SUM(D5:D20) -> 43912 | E4: =SUM(E5:E20) -> 42510 | F4: =SUM(F5:F20) -> 45267 | G4: =SUM(G5:G20) -> 55410 | H4: =SUM(H5:H20) -> 57781 | I4: =SUM(I5:I20) -> 58043 | J4: =SUM(J5:J20) -> 58870 | K4: =SUM(K5:K20) -> 59700
A5: 1111 | B5: Daň z příjmů FO ze závislé činnosti | C5: 7322 | D5: 7520 | E5: 7994 | F5: 8253 | G5: 9800 | H5: 11200 | I5: 11400 | J5: 11600 | K5: 11800
A6: 1112 | B6: Daň z příjmů FO ze samost.výděleč.čin. | C6: -16 | D6: 745 | E6: 228 | F6: 87 | G6: 500 | H6: 0 | I6: 400 | J6: 410 | K6: 420
A7: 1113 | B7: Daň z příjmů FO vybírané dle zvl.sazby | C7: 640 | D7: 642 | E7: 698 | F7: 843 | G7: 1000 | H7: 1120 | I7: 1140 | J7: 1160 | K7: 1180
A8: 1121 | B8: Daň z příjmů právnických osob | C8: 7970 | D8: 7818 | E8: 7301 | F8: 8251 | G8: 9700 | H8: 10060 | I8: 10250 | J8: 10450 | K8: 10650
A9: 1122 | B9: Daň z příjmů právnických osob za obce | C9: 1748 | D9: 2537 | E9: 1633 | F9: 1762 | G9: 1700 | H9: 1600 | I9: 1700 | J9: 1700 | K9: 1700
A10: 1211 | B10: Daň z přidané hodnoty | C10: 16052 | D10: 16860 | E10: 17338 | F10: 16682 | G10: 23000 | H10: 23000 | I10: 23000 | J10: 23400 | K10: 23800
A11: 1332 | B11: Popl.za vypouštění škodl.látek do ovzduší | C11: 9 | D11: 2 | E11: 18 | F11: 12 | G11: 10 | H11: 1 | I11: 0 | J11: 0 | K11: 0
A12: 1334 | B12: Odvody za odnětí zemědělské půdy | C12: 0 | D12: 7 | E12: 0 | F12: 3 | G12: 0 | H12: 5 | I12: 3 | J12: 0 | K12: 0
A13: 1337 | B13: Poplatek za komunální odpad | C13: 2595 | D13: 2532 | E13: 2524 | F13: 2595 | G13: 3100 | H13: 3200 | I13: 3100 | J13: 3100 | K13: 3100
A14: 1341 | B14: Poplatek ze psů | C14: 246 | D14: 239 | E14: 244 | F14: 232 | G14: 250 | H14: 235 | I14: 250 | J14: 250 | K14: 250
A15: 1343 | B15: Popl.za užívání veřejného prostranství | C15: 301 | D15: 182 | E15: 297 | F15: 115 | G15: 100 | H15: 150 | I15: 100 | J15: 100 | K15: 100
A16: 1347 | B16: Popl.za provozovaný výher.hrací přístroj | C16: 854 | D16: 673 | E16: 706 | F16: 201 | G16: 0 | H16: 0 | I16: 0 | J16: 0 | K16: 0
... A20: 1511 | B20: Daň z nemovitostí | C20: 1762 | D20: 2632 | E20: 2668 | F20: 2979 | G20: 2700 | H20: 2700 | I20: 2700 | J20: 2700 | K20: 2700
A21: §/pol. | B21: Třída 2. - Nedaňové příjmy | C21: =SUM(C22:C39) -> 3728 | D21: =SUM(D22:D39) -> 3569 | E21: =SUM(E22:E39) -> 4197 | F21: =SUM(F22:F39) -> 5893 | G21: =SUM(G22:G39) -> 5890 | H21: =SUM(H22:H39) -> 5738 | I21: =SUM(I22:I39) -> 6010 | J21: =SUM(J22:J39) -> 5715 | K21: =SUM(K22:K39) -> 5840
A22: 1032 | B22: Lesní hospodářství | C22: 0 | D22: 26 | E22: 0 | F22: 52 | G22: 0 | H22: 0 | I22: 30 | J22: 0 | K22: 0
A23: 2119 | B23: Těžební průmysl (činnost ČLUZ) | C23: 247 | D23: 159 | E23: 155 | F23: 152 | G23: 160 | H23: 78 | I23: 100 | J23: 100 | K23: 100
A24: 2321 | B24: Odvádění a čištění odpadních vod | C24: 0 | D24: 0 | E24: 0 | F24: 1679 | G24: 1800 | H24: 1300 | I24: 2200 | J24: 2200 | K24: 2200
A25: 3314 | B25: Městská knihovna | C25: 112 | D25: 176 | E25: 133 | F25: 122 | G25: 130 | H25: 130 | I25: 140 | J25: 140 | K25: 140
A26: 3319 | B26: Městská kulturní zařízení | C26: 1245 | D26: 1166 | E26: 1123 | F26: 1118 | G26: 1200 | H26: 1100 | I26: 1200 | J26: 1200 | K26: 1250
A27: 3412 | B27: Městská sportovní zařízení | C27: 716 | D27: 735 | E27: 782 | F27: 740 | G27: 800 | H27: 580 | I27: 800 | J27: 850 | K27: 900
A28: 3631 | B28: Veřejné osvětlení (pojistné náhrady) | C28: 41 | D28: 0 | E28: 0 | F28: 12 | G28: 0 | H28: 0 | I28: 0 | J28: 0 | K28: 0
A29: 3632 | B29: Pohřebnictví | C29: 0 | D29: 0 | E29: 9 | F29: 9 | G29: 0 | H29: 0 | I29: 0 | J29: 0 | K29: 0
A30: 3635 | B30: Územní plánování - přijaté příspěvky | C30: 0 | D30: 0 | E30: 0 | F30: 47 | G30: 0 | H30: 43 | I30: 0 | J30: 0 | K30: 0
A31: 3639 | B31: Komunální hospodářství | C31: 448 | D31: 92 | E31: 231 | F31: 470 | G31: 200 | H31: 274 | I31: 200 | J31: 200 | K31: 200
A32: 3722 | B32: Svoz komunálního odpadu | C32: 546 | D32: 574 | E32: 702 | F32: 656 | G32: 750 | H32: 650 | I32: 700 | J32: 750 | K32: 800
A33: 5311 | B33: Městská policie | C33: 142 | D33: 121 | E33: 100 | F33: 155 | G33: 200 | H33: 40 | I33: 100 | J33: 100 | K33: 100
... A39: 2451 | B39: Splátky půjčky (od TS) | C39: 0 | D39: 0 | E39: 0 | F39: 300 | G39: 400 | H39: 400 | I39: 300 | J39: 0 | K39: 0
A40: § | B40: Třída 3. - Kapitálové příjmy | C40: =SUM(C41:C44) -> 5632 | D40: =SUM(D41:D44) -> 1090 | E40: =SUM(E41:E44) -> 4363 | F40: =SUM(F41:F44) -> 4456 | G40: =SUM(G41:G44) -> 0 | H40: =SUM(H41:H44) -> 126 | I40: =SUM(I41:I44) -> 0 | J40: =SUM(J41:J44) -> 0 | K40: =SUM(K41:K44) -> 0
A41: 3639 | B41: Komunální hosp. (prodej nemovitostí, akcií) | C41: 5612 | D41: 1000 | E41: 4363 | F41: 4112 | G41: 0 | H41: 126 | I41: 0 | J41: 0 | K41: 0
A42: 3412 | B42: Městská sportovní zařízení | C42: 0 | D42: 85 | E42: 0 | F42: 0 | G42: 0 | H42: 0 | I42: 0 | J42: 0 | K42: 0
A43: 6171 | B43: Činnost místní správy - přijetí daru | C43: 20 | D43: 5 | E43: 0 | F43: 344 | G43: 0 | H43: 0 | I43: 0 | J43: 0 | K43: 0
A44: 2219 | B44: Pozemní komunikace | C44: 0 | D44: 0 | E44: 0 | F44: 0 | G44: 0 | H44: 0 | I44: 0 | J44: 0 | K44: 0
A45: pol. | B45: Třída 4. - Přijaté dotace | C45: =SUM(C46:C59) -> 14641 | D45: =SUM(D46:D59) -> 23611 | E45: =SUM(E46:E59) -> 17276 | F45: =SUM(F46:F59) -> 14489 | G45: =SUM(G46:G59) -> 10570 | H45: =SUM(H46:H59) -> 14001 | I45: =SUM(I46:I59) -> 26226 | J45: =SUM(J46:J59) -> 11000 | K45: =SUM(K46:K59) -> 11050
A46: 4111 | B46: ND - všeob. pokl. správa MF | C46: 889 | D46: 185 | E46: 18 | F46: 160 | G46: 0 | H46: 150 | I46: 0 | J46: 0 | K46: 0
A47: 4112 | B47: ND - ze st.rozpočtu (školství, st.správa) | C47: 5016 | D47: 7914 | E47: 6705 | F47: 6017 | G47: 4900 | H47: 5256 | I47: 5256 | J47: 5300 | K47: 5300
A48: 4113 | B48: ND - ze st.rozpočtu (lipová alej) | C48: 0 | D48: 0 | E48: 0 | F48: 12 | G48: 0 | H48: 0 | I48: 0 | J48: 0 | K48: 0
A49: 4116 | B49: ND - ze st.rozpočtu (soc.dávky,ÚP) | C49: 1381 | D49: 1648 | E49: 1900 | F49: 39 | G49: 0 | H49: 0 | I49: 0 | J49: 0 | K49: 0
...

Sheet Rozpis
A2: ROZPIS ROZPOČTU NA ROK 2014
A4: Příjmová část rozpočtu
A5: 1111 | B5: Daň z příjmů FO ze závislé činnosti | D5: 11400
A6: 1112 | B6: Daň z příjmů FO ze samost.výděleč.čin. | D6: 400
A7: 1113 | B7: Daň z příjmů FO vybírané dle zvl.sazby | D7: 1140
A8: 1121 | B8: Daň z příjmů právnických osob | D8: 10250
A9: 1122 | B9: Daň z příjmů právnických osob za obce | D9: 1700
A10: 1211 | B10: Daň z přidané hodnoty | D10: 23000
A11: 1332 | B11: Poplatek za vypouštění škodlivých látek do ovzduší | D11: 0
A12: 1334 | B12: Odvody za odnětí zemědělské půdy | D12: 3
A13: 1337 | B13: Poplatek za komunální odpad | D13: 3100
A14: 1341 | B14: Poplatek ze psů | D14: 250
A15: 1343 | B15: Popl.za užívání veřejného prostranství | D15: 100
A16: 1351 | B16: Odvod z výtěžku provozování loterií | D16: 200
... A19: 1511 | B19: Daň z nemovitostí | D19: 2700
A20: Daňové příjmy celkem | D20: =SUM(D5:D19) -> 58043
A21: 1032 | B21: Lesní hospodářství | D21: 30
B22: 2111 Prodej dřeva | C22: 30
A23: 2119 | B23: Těžební průmysl (činnost ČLUZ) | D23: 100
B24: 2343 Příjmy z úhrad dobývacího prostoru | C24: 100
A25: 2321 | B25: Odvádění a čištění odpadních vod | D25: 2200
B26: 2132 Příjmy z pronájmu nemovitostí (kanalizace, ČOV) | C26: 2200
A27: 3314 | B27: Městská knihovna | D27: 140
B28: 2111 Příjmy z poskytování služeb a výrobků | C28: 140
A29: 3319 | B29: Záležitosti kultury | D29: 1200
B30: 2111 Příjmy z poskytování služeb a výrobků | C30: 800
B31: 2132 Příjmy z pronájmu nemovitostí | C31: 400
A32: 3412 | B32: Sportovní zařízení | D32: 800
B33: 2132 Příjmy z pronájmu nemovitostí | C33: 800
A34: 3639 | B34: Komunální hospodářství | D34: 200
B35: 2219 Ostatní příjmy z vlastní činnosti | C35: 200
A36: 3722 | B36: Svoz komunálního odpadu | D36: 700
B37: 2329 Ostatní nedaňové příjmy (třídění odpadu) | C37: 700
A38: 5311 | B38: Bezpečnost a pořádek | D38: 100
B39: 2210 Přijaté sankční platby - MěP | C39: 100
A40: 6171 | B40: Činnost místní správy | D40: 100
B41: 2210 Přijaté sankční platby | C41: 60
B42: 2324 Přijaté nekapitálových příspěvků a náhrad | C42: 40
A43: 6310 | B43: Příjmy z finančních operací | D43: 65
B44: 2141 Příjmy z úroků | C44: 65
...

Sheet Přílohy
A3: 3314 - MĚSTSKÁ KNIHOVNA - příloha č. 1
A5: č. položky | B5: 2009 | C5: 2010 | D5: 2011 | E5: 2012 | F5: SR 2013 | G5: R-2014
A6: 5011 Platy | B6: 498 | C6: 506 | D6: 513 | E6: 500 | F6: 515 | G6: 515
A7: 5021 OOV | B7: 1 | C7: 17 | D7: 14 | E7: 10 | F7: 15 | G7: 15
A8: 5031 Odvody - soc. zabezpeční | B8: 122 | C8: 128 | D8: 130 | E8: 127 | F8: 133 | G8: 133
A9: 5032 Odvody - zdrav. pojištění | B9: 45 | C9: 54 | D9: 47 | E9: 46 | F9: 48 | G9: 48
A10: 5038 Povinné pojistné | B10: 2 | C10: 2 | D10: 2 | E10: 2 | F10: 2 | G10: 2
A11: 5136 Knihy, tisk | B11: 130 | C11: 88 | D11: 77 | E11: 93 | F11: 100 | G11: 100
A12: 5137 DHDM | B12: 55 | C12: 49 | D12: 2 | E12: 0 | F12: 47 | G12: 50
A13: 5138 Nákup zboží za účelem dalšího prodeje | B13: 0 | C13: 0 | D13: 8 | E13: 0 | F13: 10 | G13: 0
A14: 5139 Materiál | B14: 10 | C14: 9 | D14: 16 | E14: 22 | F14: 20 | G14: 30
A15: 5151 Voda | B15: 5 | C15: 10 | D15: 11 | E15: 10 | F15: 12 | G15: 14
A16: 5152 Teplo | B16: 30 | C16: 56 | D16: 59 | E16: 54 | F16: 55 | G16: 65
A17: 5154 Elektrická energie | B17: 23 | C17: 47 | D17: 45 | E17: 48 | F17: 50 | G17: 50
... A31: 6121 Budovy, stavby | B31: 0 | C31: 0 | D31: 117 | E31: 0 | F31: 0 | G31: 0
A32: V Ý D A J E | B32: 1288 | C32: 1120 | D32: 1186 | E32: =SUM(E6:E31) -> 1049 | F32: =SUM(F6:F31) -> 1150 | G32: =SUM(G6:G31) -> 1218
B33: 1288 | C33: 1120 | D33: 1069 | E33: 1049 | F33: 1150 | G33: 1218
A35: P Ř Í J M Y | B35: 113 | C35: 176 | D35: 133 | E35: 122 | F35: 130 | G35: 140
A49: 3319 - MĚSTSKÁ KULTURNÍ ZAŘÍZENÍ - příloha č. 2
A51: č. položky | B51: 2009 | C51: 2010 | D51: 2011 | E51: 2012 | F51: SR 2013 | G51: R-2014
A52: 5011 Platy | B52: 518 | C52: 522 | D52: 504 | E52: 497 | F52: 510 | G52: 510
A53: 5021 OOV | B53: 253 | C53: 227 | D53: 133 | E53: 134 | F53: 140 | G53: 140
A54: 5031 Odvody - soc. zabezpeční | B54: 162 | C54: 164 | D54: 147 | E54: 142 | F54: 160 | G54: 160
A55: 5032 Odvody - zdrav. pojištění | B55: 62 | C55: 59 | D55: 53 | E55: 51 | F55: 60 | G55: 60
A56: 5134 Prádlo, oděv, obuv | B56: 0 | C56: 0 | D56: 0 | E56: 0 | F56: 0 | G56: 0
A57: 5038 Povinné pojistné | B57: 3 | C57: 3 | D57: 3 | E57: 2 | F57: 3 | G57: 3
A58: 5136 Knihy, tisk | B58: 4 | C58: 0 | D58: 0 | E58: 0 | F58: 0 | G58: 0
A59: 5137 DHDM | B59: 140 | C59: 72 | D59: 15 | E59: 17 | F59: 100 | G59: 130
A60: 5138 Nákup zboží za účelem prodeje | B60: 0 | C60: 5 | D60: 5 | E60: 17 | F60: 17 | G60: 40
A61: 5139 Materiál | B61: 85 | C61: 92 | D61: 96 | E61: 195 | F61: 100 | G61: 100
A62: 5151 Voda | B62: 56 | C62: 97 | D62: 89 | E62: 31 | F62: 100 | G62: 100
A63: 5152 Teplo | B63: 553 | C63: 648 | D63: 544 | E63: 585 | F63: 590 | G63: 690
... A77: 6122 Stroje, přístroje, zařízení. | B77: 0 | C77: 0 | D77: 0 | E77: 0 | F77: 0 | G77: 0
A78: V Ý D A J E | B78: 3595 | C78: 3350 | D78: 2879 | E78: =SUM(E52:E77) -> 3074 | F78: =SUM(F52:F77) -> 3200 | G78: =SUM(G52:G77) -> 3653
B79: 3595 | C79: 3350 | D79: 2879 | E79: 3074 | F79: 3200 | G79: 3353
A81: P Ř Í J M Y | B81: 1245 | C81: 1166 | D81: 1123 | E81: 1119 | F81: 1200 | G81: 1200
A95: 3412 - MĚSTSKÁ SPORTOVNÍ ZAŘÍZENÍ - příloha č. 3
A97: č. položky | B97: 2009 | C97: 2010 | D97: 2011 | E97: 2012 | F97: SR 2013 | G97: R-2014
A98: 5011 Platy | B98: 690 | C98: 712 | D98: 458 | E98: 466 | F98: 575 | G98: 580
A99: 5021 OOV | B99: 258 | C99: 273 | D99: 294 | E99: 301 | F99: 245 | G99: 265
...
