Workbook

Sheet Návrh rozpočtu 2014
A1: ROZPOČET NA ROK 2014 A ROZPOČTOVÝ VÝHLED DO ROKU 2016
A3: OBDOBÍ | C3: S-2009 | D3: S-2010 | E3: S-2011 | F3: S-2012 | G3: SR-2013 | H3: OS-2013 | I3: NR-2014 | J3: RV-2015 | K3: RV-2016
A4: pol. | B4: Třída 1. - Daňové příjmy | C4: =SUM(C5:C20) -> 41367 | D4: =SUM(D5:D20) -> 43912 | E4: =SUM(E5:E20) -> 42510 | F4: =SUM(F5:F20) -> 45267 | G4: =SUM(G5:G20) -> 55410 | H4: =SUM(H5:H20) -> 57781 | I4: =SUM(I5:I20) -> 58043 | J4: =SUM(J5:J20) -> 58870 | K4: =SUM(K5:K20) -> 59700
A5: 1111 | B5: Daň z příjmů FO ze závislé činnosti | C5: 7322 | D5: 7520 | E5: 7994 | F5: 8253 | G5: 9800 | H5: 11200 | I5: 11400 | J5: 11600 | K5: 11800
A6: 1112 | B6: Daň z příjmů FO ze samost.výděleč.čin. | C6: -16 | D6: 745 | E6: 228 | F6: 87 | G6: 500 | H6: 0 | I6: 400 | J6: 410 | K6: 420
A7: 1113 | B7: Daň z příjmů FO vybírané dle zvl.sazby | C7: 640 | D7: 642 | E7: 698 | F7: 843 | G7: 1000 | H7: 1120 | I7: 1140 | J7: 1160 | K7: 1180
A8: 1121 | B8: Daň z příjmů právnických osob | C8: 7970 | D8: 7818 | E8: 7301 | F8: 8251 | G8: 9700 | H8: 10060 | I8: 10250 | J8: 10450 | K8: 10650
A9: 1122 | B9: Daň z příjmů právnických osob za obce | C9: 1748 | D9: 2537 | E9: 1633 | F9: 1762 | G9: 1700 | H9: 1600 | I9: 1700 | J9: 1700 | K9: 1700
A10: 1211 | B10: Daň z přidané hodnoty | C10: 16052 | D10: 16860 | E10: 17338 | F10: 16682 | G10: 23000 | H10: 23000 | I10: 23000 | J10: 23400 | K10: 23800
A11: 1332 | B11: Popl.za vypouštění škodl.látek do ovzduší | C11: 9 | D11: 2 | E11: 18 | F11: 12 | G11: 10 | H11: 1 | I11: 0 | J11: 0 | K11: 0
A12: 1334 | B12: Odvody za odnětí zemědělské půdy | C12: 0 | D12: 7 | E12: 0 | F12: 3 | G12: 0 | H12: 5 | I12: 3 | J12: 0 | K12: 0
A13: 1337 | B13: Poplatek za komunální odpad | C13: 2595 | D13: 2532 | E13: 2524 | F13: 2595 | G13: 3100 | H13: 3200 | I13: 3100 | J13: 3100 | K13: 3100
A14: 1341 | B14: Poplatek ze psů | C14: 246 | D14: 239 | E14: 244 | F14: 232 | G14: 250 | H14: 235 | I14: 250 | J14: 250 | K14: 250
A15: 1343 | B15: Popl.za užívání veřejného prostranství | C15: 301 | D15: 182 | E15: 297 | F15: 115 | G15: 100 | H15: 150 | I15: 100 | J15: 100 | K15: 100
A16: 1347 | B16: Popl.za provozovaný výher.hrací přístroj | C16: 854 | D16: 673 | E16: 706 | F16: 201 | G16: 0 | H16: 0 | I16: 0 | J16: 0 | K16: 0
... A20: 1511 | B20: Daň z nemovitostí | C20: 1762 | D20: 2632 | E20: 2668 | F20: 2979 | G20: 2700 | H20: 2700 | I20: 2700 | J20: 2700 | K20: 2700
A21: §/pol. | B21: Třída 2. - Nedaňové příjmy | C21: =SUM(C22:C39) -> 3728 | D21: =SUM(D22:D39) -> 3569 | E21: =SUM(E22:E39) -> 4197 | F21: =SUM(F22:F39) -> 5893 | G21: =SUM(G22:G39) -> 5890 | H21: =SUM(H22:H39) -> 5738 | I21: =SUM(I22:I39) -> 6010 | J21: =SUM(J22:J39) -> 5715 | K21: =SUM(K22:K39) -> 5840
A22: 1032 | B22: Lesní hospodářství | C22: 0 | D22: 26 | E22: 0 | F22: 52 | G22: 0 | H22: 0 | I22: 30 | J22: 0 | K22: 0
A23: 2119 | B23: Těžební průmysl (činnost ČLUZ) | C23: 247 | D23: 159 | E23: 155 | F23: 152 | G23: 160 | H23: 78 | I23: 100 | J23: 100 | K23: 100
A24: 2321 | B24: Odvádění a čištění odpadních vod | C24: 0 | D24: 0 | E24: 0 | F24: 1679 | G24: 1800 | H24: 1300 | I24: 2200 | J24: 2200 | K24: 2200
A25: 3314 | B25: Městská knihovna | C25: 112 | D25: 176 | E25: 133 | F25: 122 | G25: 130 | H25: 130 | I25: 140 | J25: 140 | K25: 140
A26: 3319 | B26: Městská kulturní zařízení | C26: 1245 | D26: 1166 | E26: 1123 | F26: 1118 | G26: 1200 | H26: 1100 | I26: 1200 | J26: 1200 | K26: 1250
A27: 3412 | B27: Městská sportovní zařízení | C27: 716 | D27: 735 | E27: 782 | F27: 740 | G27: 800 | H27: 580 | I27: 800 | J27: 850 | K27: 900
A28: 3631 | B28: Veřejné osvětlení (pojistné náhrady) | C28: 41 | D28: 0 | E28: 0 | F28: 12 | G28: 0 | H28: 0 | I28: 0 | J28: 0 | K28: 0
A29: 3632 | B29: Pohřebnictví | C29: 0 | D29: 0 | E29: 9 | F29: 9 | G29: 0 | H29: 0 | I29: 0 | J29: 0 | K29: 0
A30: 3635 | B30: Územní plánování - přijaté příspěvky | C30: 0 | D30: 0 | E30: 0 | F30: 47 | G30: 0 | H30: 43 | I30: 0 | J30: 0 | K30: 0
A31: 3639 | B31: Komunální hospodářství | C31: 448 | D31: 92 | E31: 231 | F31: 470 | G31: 200 | H31: 274 | I31: 200 | J31: 200 | K31: 200
A32: 3722 | B32: Svoz komunálního odpadu | C32: 546 | D32: 574 | E32: 702 | F32: 656 | G32: 750 | H32: 650 | I32: 700 | J32: 750 | K32: 800
A33: 5311 | B33: Městská policie | C33: 142 | D33: 121 | E33: 100 | F33: 155 | G33: 200 | H33: 40 | I33: 100 | J33: 100 | K33: 100
... A39: 2451 | B39: Splátky půjčky (od TS) | C39: 0 | D39: 0 | E39: 0 | F39: 300 | G39: 400 | H39: 400 | I39: 300 | J39: 0 | K39: 0
A40: § | B40: Třída 3. - Kapitálové příjmy | C40: =SUM(C41:C44) -> 5632 | D40: =SUM(D41:D44) -> 1090 | E40: =SUM(E41:E44) -> 4363 | F40: =SUM(F41:F44) -> 4456 | G40: =SUM(G41:G44) -> 0 | H40: =SUM(H41:H44) -> 126 | I40: =SUM(I41:I44) -> 0 | J40: =SUM(J41:J44) -> 0 | K40: =SUM(K41:K44) -> 0
A41: 3639 | B41: Komunální hosp. (prodej nemovitostí, akcií) | C41: 5612 | D41: 1000 | E41: 4363 | F41: 4112 | G41: 0 | H41: 126 | I41: 0 | J41: 0 | K41: 0
A42: 3412 | B42: Městská sportovní zařízení | C42: 0 | D42: 85 | E42: 0 | F42: 0 | G42: 0 | H42: 0 | I42: 0 | J42: 0 | K42: 0
A43: 6171 | B43: Činnost místní správy - přijetí daru | C43: 20 | D43: 5 | E43: 0 | F43: 344 | G43: 0 | H43: 0 | I43: 0 | J43: 0 | K43: 0
A44: 2219 | B44: Pozemní komunikace | C44: 0 | D44: 0 | E44: 0 | F44: 0 | G44: 0 | H44: 0 | I44: 0 | J44: 0 | K44: 0
A45: pol. | B45: Třída 4. - Přijaté dotace | C45: =SUM(C46:C59) -> 14641 | D45: =SUM(D46:D59) -> 23611 | E45: =SUM(E46:E59) -> 17276 | F45: =SUM(F46:F59) -> 14489 | G45: =SUM(G46:G59) -> 10570 | H45: =SUM(H46:H59) -> 14001 | I45: =SUM(I46:I59) -> 26226 | J45: =SUM(J46:J59) -> 11000 | K45: =SUM(K46:K59) -> 11050
A46: 4111 | B46: ND - všeob. pokl. správa MF | C46: 889 | D46: 185 | E46: 18 | F46: 160 | G46: 0 | H46: 150 | I46: 0 | J46: 0 | K46: 0
A47: 4112 | B47: ND - ze st.rozpočtu (školství, st.správa) | C47: 5016 | D47: 7914 | E47: 6705 | F47: 6017 | G47: 4900 | H47: 5256 | I47: 5256 | J47: 5300 | K47: 5300
A48: 4113 | B48: ND - ze st.rozpočtu (lipová alej) | C48: 0 | D48: 0 | E48: 0 | F48: 12 | G48: 0 | H48: 0 | I48: 0 | J48: 0 | K48: 0
A49: 4116 | B49: ND - ze st.rozpočtu (soc.dávky,ÚP) | C49: 1381 | D49: 1648 | E49: 1900 | F49: 39 | G49: 0 | H49: 0 | I49: 0 | J49: 0 | K49: 0
A50: 4116 | B50: ND - projekty - dotace ZŠ | C50: 0 | D50: 0 | E50: 1711 | F50: 1201 | G50: 0 | H50: 90 | I50: 0 | J50: 0 | K50: 0
A51: 4121 | B51: ND - od obcí (na činnost MěP) | C51: 2610 | D51: 2160 | E51: 2261 | F51: 1901 | G51: 1420 | H51: 1766 | I51: 1420 | J51: 1450 | K51: 1500
A52: 4122 | B52: ND - od kraje | C52: 74 | D52: 92 | E52: 1501 | F52: 2087 | G52: 0 | H52: 1439 | I52: 0 | J52: 0 | K52: 0
A53: 4131 | B53: VH - převod | C53: 3675 | D53: 2400 | E53: 2276 | F53: 2805 | G53: 2000 | H53: 1300 | I53: 2000 | J53: 2000 | K53: 2000
B54: VH - převod fin.prostř. od TS za kotelny | C54: 0 | D54: 0 | E54: 0 | F54: 0 | G54: 1700 | H54: 1700 | I54: 1700 | J54: 1700 | K54: 1700
A55: 4139 | B55: Převody - SF | C55: 520 | D55: 550 | E55: 550 | F55: 0 | G55: 550 | H55: 550 | I55: 550 | J55: 550 | K55: 550
A56: 4211 | B56: ID - ze SR (ZŠ okna, zateplení) | C56: 300 | D56: 0 | E56: 0 | F56: 0 | G56: 0 | H56: 0 | I56: 0 | J56: 0 | K56: 0
A57: 4213.6 | B57: ID - ze SFŽP | C57: 0 | D57: 8291 | E57: 0 | F57: 0 | G57: 0 | H57: 0 | I57: 9110 | J57: 0 | K57: 0
A58: 4221 | B58: ID - od obcí | C58: 0 | D58: 0 | E58: 16 | F58: 0 | G58: 0 | H58: 0 | I58: 0 | J58: 0 | K58: 0
A59: 4222.3 | B59: ID - od kraje(hřiště,přechody,hasiči,altán) | C59: 176 | D59: 371 | E59: 338 | F59: 267 | G59: 0 | H59: 1750 | I59: 6190 | J59: 0 | K59: 0
B60: PŘÍJMY CELKEM (tř.1+2+3+4) | C60: =C4+C21+C40+C45 -> 65368 | D60: =D4+D21+D40+D45 -> 72182 | E60: =E4+E21+E40+E45 -> 68346 | F60: =F4+F21+F40+F45 -> 70105 | G60: =G4+G21+G40+G45 -> 71870 | H60: =H4+H21+H40+H45 -> 77646 | I60: =I4+I21+I40+I45 -> 90279 | J60: =J4+J21+J40+J45 -> 75585 | K60: =K4+K21+K40+K45 -> 76590
A62: Vysvětlivky:
A63: S - 2009, S - 2010, S - 2011, S - 2012 = skutečné plnění a čerpání rozpočtu k 31.12. kalendářního roku;
A64: SR - 2013 = schválený rozpočet na rok 2013
A65: OS - 2013 = očekávaná skutečnost k 31.12.2013;
A66: NR - 2014 = návrh rozpočtu pro rok 2014;
A67: RV - 2015, RV - 2016 = rozpočtový výhled na roky 2015 a 2016.
A77: OBDOBÍ | C77: S - 2009 | D77: S - 2010 | E77: S-2011 | F77: S-2012 | G77: SR-2013 | H77: OS-2013 | I77: NR-2014 | J77: RV-2015 | K77: RV-2016
A78: § | B78: Třída 5. - Běžné výdaje | C78: =SUM(C79:C123) -> 60534 | D78: =SUM(D79:D123) -> 58145 | E78: =SUM(E79:E123) -> 62817 | F78: =SUM(F79:F123) -> 58815 | G78: =SUM(G79:G123) -> 57187 | H78: =SUM(H79:H123) -> 61678 | I78: =SUM(I79:I123) -> 58356 | J78: =SUM(J79:J123) -> 58425 | K78: =SUM(K79:K123) -> 58780
A79: 1014 | B79: Psi (útulek) | C79: 47 | D79: 57 | E79: 52 | F79: 51 | G79: 60 | H79: 50 | I79: 55 | J79: 55 | K79: 60
A80: 1032 | B80: Pěstební činnost (lesní hospodářství) | C80: 141 | D80: 28 | E80: 47 | F80: 41 | G80: 80 | H80: 33 | I80: 80 | J80: 80 | K80: 80
A81: 2141 | B81: Infocentrum | C81: 0 | D81: 0 | E81: 28 | F81: 0 | G81: 0 | H81: 0 | I81: 0 | J81: 0 | K81: 0
A82: 2212 | B82: Silnice (údržba komunikací) | C82: 4566 | D82: 5981 | E82: 5553 | F82: 4950 | G82: 5800 | H82: 6800 | I82: 7300 | J82: 6000 | K82: 6100
A83: 2219 | B83: Pozemní komunikace | C83: 0 | D83: 0 | E83: 546 | F83: 107 | G83: 300 | H83: 115 | I83: 1300 | J83: 300 | K83: 300
A84: 2221 | B84: Dopravní obslužnost | C84: 319 | D84: 261 | E84: 520 | F84: 521 | G84: 522 | H84: 558 | I84: 300 | J84: 300 | K84: 300
A85: 2223 | B85: Bezpečnost sil.provozu | C85: 11 | D85: 9 | E85: 38 | F85: 110 | G85: 100 | H85: 95 | I85: 100 | J85: 100 | K85: 100
A86: 2310 | B86: Pitná voda (veřejné studny) | C86: 2 | D86: 5 | E86: 0 | F86: 65 | G86: 5 | H86: 0 | I86: 5 | J86: 5 | K86: 5
A87: 2321 | B87: Odvádění a čištění odpadních vod | C87: 128 | D87: 157 | E87: 253 | F87: 1604 | G87: 300 | H87: 800 | I87: 300 | J87: 300 | K87: 300
A88: 2333 | B88: Úpravy vodních toků | C88: 136 | D88: 0 | E88: 13 | F88: 45 | G88: 0 | H88: 0 | I88: 0 | J88: 0 | K88: 0
A89: 2341 | B89: Vodní díla v krajině - rybníky | C89: 0 | D89: 0 | E89: 57 | F89: 0 | G89: 0 | H89: 0 | I89: 0 | J89: 0 | K89: 0
A90: 3113 | B90: Základní škola - n. příspěvek města | C90: 5600 | D90: 5200 | E90: 6042 | F90: 9719 | G90: 6300 | H90: 7750 | I90: 6444 | J90: 6400 | K90: 6400
B91: Základní škola - n. dotační programy | C91: 0 | D91: 0 | E91: 2661 | F91: 0 | G91: 0 | H91: 0 | I91: 0 | J91: 0 | K91: 0
A92: 3314 | B92: Městská knihovna | C92: 1288 | D92: 1120 | E92: 1068 | F92: 1049 | G92: 1150 | H92: 1160 | I92: 1218 | J92: 1220 | K92: 1220
A93: 3319 | B93: Městská kulturní zařízení | C93: 3595 | D93: 3350 | E93: 2879 | F93: 3074 | G93: 3200 | H93: 3400 | I93: 3353 | J93: 3400 | K93: 3450
A94: 3322 | B94: Obnova kulturních památek - sv. Isidor | C94: 0 | D94: 0 | E94: 657 | F94: 0 | G94: 0 | H94: 0 | I94: 0 | J94: 0 | K94: 0
A95: 3326 | B95: Pořízení,… historického povědomí | C95: 0 | D95: 0 | E95: 0 | F95: 0 | G95: 0 | H95: 30 | I95: 0 | J95: 0 | K95: 0
A96: 3330 | B96: Činnost církví | C96: 0 | D96: 25 | E96: 25 | F96: 0 | G96: 0 | H96: 0 | I96: 0 | J96: 0 | K96: 0
A97: 3399 | B97: Životní jubilea občanů …… | C97: 81 | D97: 84 | E97: 76 | F97: 66 | G97: 75 | H97: 70 | I97: 75 | J97: 75 | K97: 75
A98: 3429 | B98: Půjčka - kynologové | C98: 0 | D98: 0 | E98: 0 | F98: 75 | G98: 0 | H98: 0 | I98: 0 | J98: 0 | K98: 0
A99: 3412 | B99: Městská sportovní zařízení | C99: 2766 | D99: 2391 | E99: 2516 | F99: 2179 | G99: 2100 | H99: 2250 | I99: 2150 | J99: 2200 | K99: 2250
A100: 3631 | B100: Veřejné osvětlení | C100: 1940 | D100: 1702 | E100: 1926 | F100: 1982 | G100: 2100 | H100: 2400 | I100: 2100 | J100: 2300 | K100: 2350
A101: 3632 | B101: Pohřebnictví | C101: 0 | D101: 18 | E101: 9 | F101: 0 | G101: 20 | H101: 0 | I101: 20 | J101: 20 | K101: 20
A102: 3635 | B102: Územní plánování | C102: 0 | D102: 0 | E102: 0 | F102: 68 | G102: 0 | H102: 0 | I102: 0 | J102: 0 | K102: 0
A103: 3639 | B103: Komunální hospodářství | C103: 336 | D103: 291 | E103: 1460 | F103: 486 | G103: 450 | H103: 550 | I103: 450 | J103: 450 | K103: 450
... A107: 3745 | B107: Veřejná zeleň | C107: 2155 | D107: 1790 | E107: 1891 | F107: 2020 | G107: 2200 | H107: 2370 | I107: 2400 | J107: 2200 | K107: 2200
A108: 4171-3 | B108: Sociální dávky | C108: 1196 | D108: 1586 | E108: 1939 | F108: 0 | G108: 0 | H108: 0 | I108: 0 | J108: 0 | K108: 0
A109: 4359 | B109: Péče a pomoc starým občanům | C109: 50 | D109: 30 | E109: 30 | F109: 30 | G109: 30 | H109: 30 | I109: 30 | J109: 30 | K109: 30
A110: 4351 | B110: Pečovatelská služba - o.p.s. | C110: 822 | D110: 800 | E110: 828 | F110: 891 | G110: 900 | H110: 900 | I110: 900 | J110: 900 | K110: 950
A111: 5311 | B111: Městská policie | C111: 5578 | D111: 5357 | E111: 5450 | F111: 5196 | G111: 5400 | H111: 5400 | I111: 5611 | J111: 5600 | K111: 5600
A112: 5512 | B112: Hasiči | C112: 635 | D112: 285 | E112: 380 | F112: 336 | G112: 350 | H112: 550 | I112: 320 | J112: 320 | K112: 320
A113: 6112 | B113: Zastupitelstvo, rada, výbory | C113: 2176 | D113: 2312 | E113: 2233 | F113: 1980 | G113: 2000 | H113: 2000 | I113: 2200 | J113: 2250 | K113: 2300
A114: 6115.4 | B114: Volby | C114: 78 | D114: 174 | E114: 0 | F114: 70 | G114: 0 | H114: 70 | I114: 0 | J114: 0 | K114: 0
A115: 6118 | B115: Volba prezidenta republiky | C115: 0 | D115: 0 | E115: 0 | F115: 0 | G115: 0 | H115: 90 | I115: 0 | J115: 0 | K115: 0
A116: 6149 | B116: Všeobecná vnitřní správa - sčítání | C116: 0 | D116: 0 | E116: 18 | F116: 0 | G116: 0 | H116: 0 | I116: 0 | J116: 0 | K116: 0
A117: 6171 | B117: Činnost místní správy | C117: 16944 | D117: 17235 | E117: 16611 | F117: 15907 | G117: 16700 | H117: 17000 | I117: 16725 | J117: 16800 | K117: 16800
A118: 6310 | B118: Výdaje z finančních operací-úroky,poplatky | C118: 478 | D118: 645 | E118: 466 | F118: 346 | G118: 300 | H118: 250 | I118: 400 | J118: 350 | K118: 350
A119: 6320 | B119: Pojištění | C119: 202 | D119: 199 | E119: 161 | F119: 160 | G119: 170 | H119: 191 | I119: 195 | J119: 195 | K119: 195
A120: 6330 | B120: Převod sociálnímu fondu | C120: 520 | D120: 550 | E120: 550 | F120: 0 | G120: 550 | H120: 550 | I120: 550 | J120: 550 | K120: 550
... A123: 6409 | B123: Příspěvky, granty | C123: 1095 | D123: 707 | E123: 706 | F123: 815 | G123: 700 | H123: 700 | I123: 700 | J123: 700 | K123: 700
A124: § | B124: Třída 6. - Kapitálové výdaje | C124: =SUM(C125:C147) -> 16628 | D124: =SUM(D125:D147) -> 9213 | E124: =SUM(E125:E147) -> 1617 | F124: =SUM(F125:F147) -> 11190 | G124: =SUM(G125:G147) -> 7100 | H124: =SUM(H125:H147) -> 9442 | I124: =SUM(I125:I147) -> 44770 | J124: =SUM(J125:J147) -> 10200 | K124: =SUM(K125:K147) -> 12200
...

Sheet Rozpis
A2: ROZPIS ROZPOČTU NA ROK 2014
A4: Příjmová část rozpočtu
A5: 1111 | B5: Daň z příjmů FO ze závislé činnosti | D5: 11400
A6: 1112 | B6: Daň z příjmů FO ze samost.výděleč.čin. | D6: 400
A7: 1113 | B7: Daň z příjmů FO vybírané dle zvl.sazby | D7: 1140
A8: 1121 | B8: Daň z příjmů právnických osob | D8: 10250
A9: 1122 | B9: Daň z příjmů právnických osob za obce | D9: 1700
A10: 1211 | B10: Daň z přidané hodnoty | D10: 23000
A11: 1332 | B11: Poplatek za vypouštění škodlivých látek do ovzduší | D11: 0
A12: 1334 | B12: Odvody za odnětí zemědělské půdy | D12: 3
A13: 1337 | B13: Poplatek za komunální odpad | D13: 3100
A14: 1341 | B14: Poplatek ze psů | D14: 250
A15: 1343 | B15: Popl.za užívání veřejného prostranství | D15: 100
A16: 1351 | B16: Odvod z výtěžku provozování loterií | D16: 200
... A19: 1511 | B19: Daň z nemovitostí | D19: 2700
A20: Daňové příjmy celkem | D20: =SUM(D5:D19) -> 58043
A21: 1032 | B21: Lesní hospodářství | D21: 30
B22: 2111 Prodej dřeva | C22: 30
A23: 2119 | B23: Těžební průmysl (činnost ČLUZ) | D23: 100
B24: 2343 Příjmy z úhrad dobývacího prostoru | C24: 100
A25: 2321 | B25: Odvádění a čištění odpadních vod | D25: 2200
B26: 2132 Příjmy z pronájmu nemovitostí (kanalizace, ČOV) | C26: 2200
A27: 3314 | B27: Městská knihovna | D27: 140
B28: 2111 Příjmy z poskytování služeb a výrobků | C28: 140
A29: 3319 | B29: Záležitosti kultury | D29: 1200
B30: 2111 Příjmy z poskytování služeb a výrobků | C30: 800
B31: 2132 Příjmy z pronájmu nemovitostí | C31: 400
A32: 3412 | B32: Sportovní zařízení | D32: 800
B33: 2132 Příjmy z pronájmu nemovitostí | C33: 800
A34: 3639 | B34: Komunální hospodářství | D34: 200
B35: 2219 Ostatní příjmy z vlastní činnosti | C35: 200
A36: 3722 | B36: Svoz komunálního odpadu | D36: 700
B37: 2329 Ostatní nedaňové příjmy (třídění odpadu) | C37: 700
A38: 5311 | B38: Bezpečnost a pořádek | D38: 100
B39: 2210 Přijaté sankční platby - MěP | C39: 100
A40: 6171 | B40: Činnost místní správy | D40: 100
B41: 2210 Přijaté sankční platby | C41: 60
B42: 2324 Přijaté nekapitálových příspěvků a náhrad | C42: 40
A43: 6310 | B43: Příjmy z finančních operací | D43: 65
B44: 2141 Příjmy z úroků | C44: 65
A45: 2420 | B45: Splátka půjčky (kynologové) | D45: 75
A46: 2451 | B46: Splátky půjček (od TS s.r.o.) | D46: 300
A47: Nedaňové příjmy celken | D47: =SUM(D21:D46) -> 6010
A48: 4112 | B48: Neinvestiční dotace v rámci souhrn. rozp. vztahu | D48: 5256
A49: 4121 | B49: Neinvestiční dotace od obcí (činnost ZŠ, MěP) | D49: 1420
A50: 4131 | B50: Převody z vlastní hospodářské činnosti (z toho kotelny 1 700) | D50: 3700
A51: 4139 | B51: Převody ze sociálního fondu | D51: 550
A52: 4213.6 | B52: ID - ze SFŽP | D52: 9110
A53: 4222.3 | B53: ID - od kraje (hřiště, přechody, hasiči, altán, zastávka…) | D53: 6190
A54: Přjaté dotace a převody | D54: =SUM(D48:D53) -> 26226
A55: PŘÍJMY CELKEM | D55: =D20+D47+D54 -> 90279
A58: Výdajová část rozpočtu
A59: 1014 | B59: Psi - útulek | D59: 55
B60: 5169 Nákup ostatních služeb | C60: 55
A61: 1032 | B61: Pěstební činnost (lesní hospodářství) | D61: 80
B62: 5169 Nákup ostatních služeb | C62: 80
A63: 2212 | B63: Silnice (TS - 5 600, OI - 200) | D63: 7300
B64: 5169 Nákup ostatních služeb | C64: 5800
B65: 5171 Oprava místních komunikací | C65: 1000
B66: Oprava komunikace U Libeně | C66: 500
A67: 2219 | B67: Pozemní komunikace | D67: =SUM(C68:C75) -> 12420
B68: 5171 Zídky před GNS | C68: 650
B69: Zídky Komenského nám. | C69: 650
B70: 6121 Parkovací místa poliklinika | C70: 1300
B71: Chodník Palackého | C71: 945
B72: Chodník před NKC | C72: 975
B73: Chodník u hřbitova | C73: 200
B74: Rekonstrukce chodníků | C74: 700
B75: Komunikace Kocourek | C75: 7000
A76: 2221 | B76: Dopravní obslužnost | D76: 1920
B77: 5329 Neinvestiční transfer | C77: 300
B78: 6121 Autobusová zastávka Karlovarská ul. | C78: 1620
A79: 2223 | B79: Bezpečnost silničního provozu | D79: 100
B80: 5169 Nákup ostatních služeb | C80: 100
A81: 2310 | B81: Pitná voda - veřejné studny (TS - 5) | D81: 5
B82: 5169 Nákup ostatních služeb | C82: 5
A83: 2321 | B83: Odvádění a čištění odpadních vod | D83: 14300
B84: 5166 Právní služby | C84: 150
B85: 5169 Nákup ostatních služeb | C85: 150
B86: 6121 Stavby - Kanalizace Pecínov | C86: 14000
A87: 3113 | B87: Základní škola | D87: =C88+C89 -> 17974
B88: 5331 Neinvestiční příspěvek | C88: 6444
B89: 6121 Stavby - Zateplení školek | C89: 11530
A90: 3314 | B90: Městská knihovna (příloha č. 1) | D90: =Přílohy!G32 -> 1218
A91: 3319 | B91: Městská kulturní zařízení (příloha č.2) | D91: =Přílohy!G78 -> 3653
A92: 3399 | B92: Občanské sdružení | D92: 75
B93: 5139 Nákup materiálu | C93: 5
B94: 5194 Věcné dary | C94: 70
A95: 3412 | B95: Sportovní zařízení (příloha č. 3) | D95: =Přílohy!G124 -> 2150
A96: 3631 | B96: Veřejné osvětlení | D96: 3100
B97: 5154 Elektrická energie | C97: 1000
B98: 5171 Opravy a udržování (smlouva s TS + opravy mimořádné) | C98: 1100
B99: 6121 Stavby | C99: 1000
A100: 3632 | B100: Pohřebnictví | D100: 20
B101: 5192 Poskytnuté neinvestiční příspěvky | C101: 20
A102: 3635 | B102: Územní plánování | D102: 370
B103: 6119 Nový územní plán města | C103: 370
A104: 3639 | B104: Komunální hospodářství | D104: =SUM(C105:C111) -> 3050
B105: 5139 Nákup materiálu | C105: 20
B106: 5154 Elektrická energie | C106: 30
...

Sheet Přílohy
A3: 3314 - MĚSTSKÁ KNIHOVNA - příloha č. 1
A5: č. položky | B5: 2009 | C5: 2010 | D5: 2011 | E5: 2012 | F5: SR 2013 | G5: R-2014
A6: 5011 Platy | B6: 498 | C6: 506 | D6: 513 | E6: 500 | F6: 515 | G6: 515
A7: 5021 OOV | B7: 1 | C7: 17 | D7: 14 | E7: 10 | F7: 15 | G7: 15
A8: 5031 Odvody - soc. zabezpeční | B8: 122 | C8: 128 | D8: 130 | E8: 127 | F8: 133 | G8: 133
A9: 5032 Odvody - zdrav. pojištění | B9: 45 | C9: 54 | D9: 47 | E9: 46 | F9: 48 | G9: 48
A10: 5038 Povinné pojistné | B10: 2 | C10: 2 | D10: 2 | E10: 2 | F10: 2 | G10: 2
A11: 5136 Knihy, tisk | B11: 130 | C11: 88 | D11: 77 | E11: 93 | F11: 100 | G11: 100
A12: 5137 DHDM | B12: 55 | C12: 49 | D12: 2 | E12: 0 | F12: 47 | G12: 50
A13: 5138 Nákup zboží za účelem dalšího prodeje | B13: 0 | C13: 0 | D13: 8 | E13: 0 | F13: 10 | G13: 0
A14: 5139 Materiál | B14: 10 | C14: 9 | D14: 16 | E14: 22 | F14: 20 | G14: 30
A15: 5151 Voda | B15: 5 | C15: 10 | D15: 11 | E15: 10 | F15: 12 | G15: 14
A16: 5152 Teplo | B16: 30 | C16: 56 | D16: 59 | E16: 54 | F16: 55 | G16: 65
A17: 5154 Elektrická energie | B17: 23 | C17: 47 | D17: 45 | E17: 48 | F17: 50 | G17: 50
... A31: 6121 Budovy, stavby | B31: 0 | C31: 0 | D31: 117 | E31: 0 | F31: 0 | G31: 0
A32: V Ý D A J E | B32: 1288 | C32: 1120 | D32: 1186 | E32: =SUM(E6:E31) -> 1049 | F32: =SUM(F6:F31) -> 1150 | G32: =SUM(G6:G31) -> 1218
B33: 1288 | C33: 1120 | D33: 1069 | E33: 1049 | F33: 1150 | G33: 1218
A35: P Ř Í J M Y | B35: 113 | C35: 176 | D35: 133 | E35: 122 | F35: 130 | G35: 140
A49: 3319 - MĚSTSKÁ KULTURNÍ ZAŘÍZENÍ - příloha č. 2
A51: č. položky | B51: 2009 | C51: 2010 | D51: 2011 | E51: 2012 | F51: SR 2013 | G51: R-2014
A52: 5011 Platy | B52: 518 | C52: 522 | D52: 504 | E52: 497 | F52: 510 | G52: 510
A53: 5021 OOV | B53: 253 | C53: 227 | D53: 133 | E53: 134 | F53: 140 | G53: 140
A54: 5031 Odvody - soc. zabezpeční | B54: 162 | C54: 164 | D54: 147 | E54: 142 | F54: 160 | G54: 160
A55: 5032 Odvody - zdrav. pojištění | B55: 62 | C55: 59 | D55: 53 | E55: 51 | F55: 60 | G55: 60
A56: 5134 Prádlo, oděv, obuv | B56: 0 | C56: 0 | D56: 0 | E56: 0 | F56: 0 | G56: 0
A57: 5038 Povinné pojistné | B57: 3 | C57: 3 | D57: 3 | E57: 2 | F57: 3 | G57: 3
A58: 5136 Knihy, tisk | B58: 4 | C58: 0 | D58: 0 | E58: 0 | F58: 0 | G58: 0
A59: 5137 DHDM | B59: 140 | C59: 72 | D59: 15 | E59: 17 | F59: 100 | G59: 130
A60: 5138 Nákup zboží za účelem prodeje | B60: 0 | C60: 5 | D60: 5 | E60: 17 | F60: 17 | G60: 40
A61: 5139 Materiál | B61: 85 | C61: 92 | D61: 96 | E61: 195 | F61: 100 | G61: 100
A62: 5151 Voda | B62: 56 | C62: 97 | D62: 89 | E62: 31 | F62: 100 | G62: 100
A63: 5152 Teplo | B63: 553 | C63: 648 | D63: 544 | E63: 585 | F63: 590 | G63: 690
... A77: 6122 Stroje, přístroje, zařízení. | B77: 0 | C77: 0 | D77: 0 | E77: 0 | F77: 0 | G77: 0
A78: V Ý D A J E | B78: 3595 | C78: 3350 | D78: 2879 | E78: =SUM(E52:E77) -> 3074 | F78: =SUM(F52:F77) -> 3200 | G78: =SUM(G52:G77) -> 3653
B79: 3595 | C79: 3350 | D79: 2879 | E79: 3074 | F79: 3200 | G79: 3353
A81: P Ř Í J M Y | B81: 1245 | C81: 1166 | D81: 1123 | E81: 1119 | F81: 1200 | G81: 1200
A95: 3412 - MĚSTSKÁ SPORTOVNÍ ZAŘÍZENÍ - příloha č. 3
A97: č. položky | B97: 2009 | C97: 2010 | D97: 2011 | E97: 2012 | F97: SR 2013 | G97: R-2014
A98: 5011 Platy | B98: 690 | C98: 712 | D98: 458 | E98: 466 | F98: 575 | G98: 580
A99: 5021 OOV | B99: 258 | C99: 273 | D99: 294 | E99: 301 | F99: 245 | G99: 265
A100: 5024 Odstupné | B100: 0 | C100: 0 | D100: 0 | E100: 34 | F100: 0 | G100: 0
A101: 5031 Odvody - soc. zabezpeční | B101: 191 | C101: 224 | D101: 191 | E101: 194 | F101: 205 | G101: 205
A102: 5032 Odvody - zdrav. pojištění | B102: 87 | C102: 83 | D102: 68 | E102: 70 | F102: 74 | G102: 74
A103: 5134 Prádlo, oděv, obuv | B103: 3 | C103: 2 | D103: 3 | E103: 0 | F103: 2 | G103: 5
A104: 5038 Povinné pojistné | B104: 4 | C104: 4 | D104: 4 | E104: 3 | F104: 4 | G104: 4
A105: 5137 DHDM | B105: 30 | C105: 31 | D105: 50 | E105: 22 | F105: 30 | G105: 30
A106: 5139 Materiál | B106: 110 | C106: 116 | D106: 115 | E106: 160 | F106: 115 | G106: 115
A107: 5151 Voda | B107: 75 | C107: 112 | D107: 94 | E107: 71 | F107: 50 | G107: 65
A108: 5152 Teplo | B108: 291 | C108: 232 | D108: 246 | E108: 244 | F108: 260 | G108: 300
A109: 5153 Plyn | B109: 106 | C109: 97 | D109: 65 | E109: 100 | F109: 85 | G109: 95
... A123: 6122 Stroje, přístroje, zařízení. | B123: 0 | C123: 82 | D123: 93 | E123: 0 | F123: 0 | G123: 0
A124: V Ý D A J E | B124: 2765 | C124: 3129 | D124: 2609 | E124: =SUM(E98:E123) -> 2178 | F124: =SUM(F98:F123) -> 2100 | G124: =SUM(G98:G123) -> 2150
B125: 2765 | C125: 2391 | D125: 2516 | E125: 2178 | F125: 2100 | G125: 2150
A127: P Ř Í J M Y | B127: 716 | C127: 820 | D127: 782 | E127: 740 | F127: 800 | G127: 800
A141: 5311 - MĚSTSKÁ POLICIE - příloha č. 4
A143: č. položky | B143: 2009 | C143: 2010 | D143: 2011 | E143: 2012 | F143: SR 2013 | G143: R-2014
A144: 5011 Platy | B144: 3212 | C144: 3156 | D144: 3181 | E144: 3094 | F144: 3200 | G144: 3200
A145: 5021 OOV | B145: 0 | C145: 0 | D145: 0 | E145: 0 | F145: 0 | G145: 0
A146: 5031 Odvody - soc. zabezpečení | B146: 798 | C146: 823 | D146: 814 | E146: 792 | F146: 830 | G146: 830
A147: 5032 Odvody - zdrav. pojištění | B147: 296 | C147: 291 | D147: 293 | E147: 285 | F147: 300 | G147: 300
A148: 5134 Prádlo, oděv, obuv | B148: 121 | C148: 5 | D148: 123 | E148: 78 | F148: 50 | G148: 90
A149: 5038 Povinné pojistné | B149: 13 | C149: 14 | D149: 14 | E149: 13 | F149: 15 | G149: 15
A150: 5136 Knihy, tisk | B150: 1 | C150: 0 | D150: 2 | E150: 0 | F150: 0 | G150: 0
A151: 5137 DHDM | B151: 20 | C151: 33 | D151: 17 | E151: 0 | F151: 16 | G151: 16
A152: 5139 Materiál | B152: 56 | C152: 38 | D152: 33 | E152: 42 | F152: 45 | G152: 45
A153: 5151 Voda | B153: 17 | C153: 14 | D153: 10 | E153: 8 | F153: 10 | G153: 10
A154: 5152 Plyn /teplo/ | B154: 155 | C154: 206 | D154: 277 | E154: 230 | F154: 250 | G154: 250
A155: 5154 Elektrická energie | B155: 24 | C155: 62 | D155: 66 | E155: 61 | F155: 70 | G155: 70
... A169: 6122 Stroje, přístroje, zařízení. | B169: 0 | C169: 0 | D169: 50 | E169: 0 | F169: 0 | G169: 0
A170: V Ý D A J E | B170: 5958 | C170: 5357 | D170: 5500 | E170: =SUM(E144:E169) -> 5196 | F170: =SUM(F144:F169) -> 5400 | G170: =SUM(G144:G169) -> 5611
B171: 5578 | C171: 5357 | D171: 5450 | E171: 5196 | F171: 5400 | G171: 5611
A173: P Ř Í J M Y | B173: 142 | C173: 121 | D173: 100 | E173: 155 | F173: 200 | G173: 100
B174: 2610 | C174: 2160 | D174: 2261 | E174: 1901 | F174: 1420 | G174: 1420
A184: 5512 - HASIČI - příloha č. 5
A186: č. položky | B186: 2009 | C186: 2010 | D186: 2011 | E186: 2012 | F186: SR 2013 | G186: R-2014
A187: 5019 Ostatní platy | B187: 1 | C187: 4 | D187: 1 | E187: 0 | F187: 0 | G187: 0
A188: 5134 Prádlo, oděv, obuv | B188: 0 | C188: 17 | D188: 42 | E188: 0 | F188: 0 | G188: 0
A189: 5137 DHDM | B189: 254 | C189: 0 | D189: 0 | E189: 0 | F189: 0 | G189: 0
A190: 5139 Materiál | B190: 83 | C190: 14 | D190: 48 | E190: 31 | F190: 60 | G190: 45
A191: 5151 Voda | B191: 0 | C191: 0 | D191: 37 | E191: 2 | F191: 2 | G191: 2
A192: 5153 Plyn | B192: 84 | C192: 60 | D192: 55 | E192: 69 | F192: 75 | G192: 75
A193: 5154 Elektrická energie | B193: 15 | C193: 2 | D193: 24 | E193: 19 | F193: 20 | G193: 20
A194: 5156 Pohonné hmoty | B194: 56 | C194: 77 | D194: 53 | E194: 56 | F194: 60 | G194: 50
A195: 5162 Služby telekomunikací | B195: 22 | C195: 27 | D195: 30 | E195: 35 | F195: 35 | G195: 35
A196: 5163 Služby peněžních ústavů | B196: 12 | C196: 1 | D196: 1 | E196: 1 | F196: 1 | G196: 1
A197: 5167 Služby školení, vzdělávání | B197: 3 | C197: 18 | D197: 20 | E197: 26 | F197: 20 | G197: 20
A198: 5169 Služby ostatní | B198: 41 | C198: 41 | D198: 23 | E198: 27 | F198: 27 | G198: 22
... A202: 6122 Stroje, přístroje, zařízení. | B202: 146 | C202: 0 | D202: 0 | E202: 201 | F202: 0 | G202: 0
A203: V Ý D A J E | B203: 781 | C203: 285 | D203: 380 | E203: =SUM(E187:E202) -> 538 | F203: =SUM(F187:F202) -> 350 | G203: =SUM(G187:G202) -> 320
B204: 635 | C204: 285 | D204: 380 | E204: 328 | F204: 350 | G204: 320
A228: 6112 - ZASTUPITELSTVO - příloha č. 6
A230: č. položky | B230: 2009 | C230: 2010 | D230: 2011 | E230: 2012 | F230: SR 2013 | G230: R-2014
A231: 5021 OOV | B231: 70 | C231: 0 | D231: 0 | E231: 0 | F231: 0 | G231: 0
A232: 5023 Odměny členům zastupitelstva | B232: 1271 | C232: 1424 | D232: 1369 | E232: 1158 | F232: 1170 | G232: 1170
A233: 5031 Odvody - soc. zabezpeční | B233: 270 | C233: 314 | D233: 214 | E233: 256 | F233: 255 | G233: 255
A234: 5032 Odvody - zdrav. pojištění | B234: 115 | C234: 128 | D234: 105 | E234: 104 | F234: 105 | G234: 105
A235: 5038 Povinné pojistné | B235: 2 | C235: 2 | D235: 2 | E235: 0 | F235: 2 | G235: 2
A236: 5136 Knihy, tisk | B236: 0 | C236: 0 | D236: 0 | E236: 4 | F236: 0 | G236: 0
A237: 5137 DHDM | B237: 0 | C237: 0 | D237: 0 | E237: 29 | F237: 0 | G237: 0
A238: 5139 Materiál | B238: 151 | C238: 179 | D238: 153 | E238: 167 | F238: 180 | G238: 180
...
